BEGIN:VCALENDAR
VERSION:2.0
PRODID:-//VS-Desselbrunn - ECPv6.15.11//NONSGML v1.0//EN
CALSCALE:GREGORIAN
METHOD:PUBLISH
X-ORIGINAL-URL:https://vs-desselbrunn.at
X-WR-CALDESC:Veranstaltungen für VS-Desselbrunn
REFRESH-INTERVAL;VALUE=DURATION:PT1H
X-Robots-Tag:noindex
X-PUBLISHED-TTL:PT1H
BEGIN:VTIMEZONE
TZID:UTC
BEGIN:STANDARD
TZOFFSETFROM:+0000
TZOFFSETTO:+0000
TZNAME:UTC
DTSTART:20230101T000000
END:STANDARD
END:VTIMEZONE
BEGIN:VEVENT
DTSTART;VALUE=DATE:20240509
DTEND;VALUE=DATE:20240511
DTSTAMP:20260423T030125
CREATED:20240425T132058Z
LAST-MODIFIED:20240425T132058Z
UID:213-1715212800-1715385599@vs-desselbrunn.at
SUMMARY:Schulfrei
DESCRIPTION:
URL:https://vs-desselbrunn.at/event/schulfrei-2/
END:VEVENT
END:VCALENDAR