BEGIN:VCALENDAR
VERSION:2.0
PRODID:-//VS-Desselbrunn - ECPv6.15.11//NONSGML v1.0//EN
CALSCALE:GREGORIAN
METHOD:PUBLISH
X-WR-CALNAME:VS-Desselbrunn
X-ORIGINAL-URL:https://vs-desselbrunn.at
X-WR-CALDESC:Veranstaltungen für VS-Desselbrunn
REFRESH-INTERVAL;VALUE=DURATION:PT1H
X-Robots-Tag:noindex
X-PUBLISHED-TTL:PT1H
BEGIN:VTIMEZONE
TZID:UTC
BEGIN:STANDARD
TZOFFSETFROM:+0000
TZOFFSETTO:+0000
TZNAME:UTC
DTSTART:20230101T000000
END:STANDARD
END:VTIMEZONE
BEGIN:VEVENT
DTSTART;VALUE=DATE:20241223
DTEND;VALUE=DATE:20250107
DTSTAMP:20260422T162801
CREATED:20241008T134747Z
LAST-MODIFIED:20241008T134747Z
UID:419-1734912000-1736207999@vs-desselbrunn.at
SUMMARY:Weihnachtsferien
DESCRIPTION:
URL:https://vs-desselbrunn.at/event/weihnachtsferien/
END:VEVENT
END:VCALENDAR