BEGIN:VCALENDAR
VERSION:2.0
PRODID:-//VS-Desselbrunn - ECPv6.15.11//NONSGML v1.0//EN
CALSCALE:GREGORIAN
METHOD:PUBLISH
X-ORIGINAL-URL:https://vs-desselbrunn.at
X-WR-CALDESC:Veranstaltungen für VS-Desselbrunn
REFRESH-INTERVAL;VALUE=DURATION:PT1H
X-Robots-Tag:noindex
X-PUBLISHED-TTL:PT1H
BEGIN:VTIMEZONE
TZID:UTC
BEGIN:STANDARD
TZOFFSETFROM:+0000
TZOFFSETTO:+0000
TZNAME:UTC
DTSTART:20240101T000000
END:STANDARD
END:VTIMEZONE
BEGIN:VEVENT
DTSTART;VALUE=DATE:20251126
DTEND;VALUE=DATE:20251127
DTSTAMP:20260420T022618
CREATED:20250930T083212Z
LAST-MODIFIED:20250930T083212Z
UID:661-1764115200-1764201599@vs-desselbrunn.at
SUMMARY:Elternsprechtag
DESCRIPTION:
URL:https://vs-desselbrunn.at/event/elternsprechtag-3/
END:VEVENT
END:VCALENDAR