BEGIN:VCALENDAR
VERSION:2.0
PRODID:-//VS-Desselbrunn - ECPv6.15.11//NONSGML v1.0//EN
CALSCALE:GREGORIAN
METHOD:PUBLISH
X-WR-CALNAME:VS-Desselbrunn
X-ORIGINAL-URL:https://vs-desselbrunn.at
X-WR-CALDESC:Veranstaltungen für VS-Desselbrunn
REFRESH-INTERVAL;VALUE=DURATION:PT1H
X-Robots-Tag:noindex
X-PUBLISHED-TTL:PT1H
BEGIN:VTIMEZONE
TZID:UTC
BEGIN:STANDARD
TZOFFSETFROM:+0000
TZOFFSETTO:+0000
TZNAME:UTC
DTSTART:20230101T000000
END:STANDARD
END:VTIMEZONE
BEGIN:VEVENT
DTSTART;VALUE=DATE:20240430
DTEND;VALUE=DATE:20240501
DTSTAMP:20260423T025834
CREATED:20240425T131603Z
LAST-MODIFIED:20240425T131603Z
UID:199-1714435200-1714521599@vs-desselbrunn.at
SUMMARY:Bücherei
DESCRIPTION:
URL:https://vs-desselbrunn.at/event/buecherei/
END:VEVENT
BEGIN:VEVENT
DTSTART;VALUE=DATE:20240430
DTEND;VALUE=DATE:20240501
DTSTAMP:20260423T025834
CREATED:20240425T131712Z
LAST-MODIFIED:20240425T131712Z
UID:198-1714435200-1714521599@vs-desselbrunn.at
SUMMARY:Helfi-Bewerb 3.&4. Klasse
DESCRIPTION:
URL:https://vs-desselbrunn.at/event/helfi-bewerb-3-4-klasse/
END:VEVENT
END:VCALENDAR