BEGIN:VCALENDAR
VERSION:2.0
PRODID:-//VS-Desselbrunn - ECPv6.15.11//NONSGML v1.0//EN
CALSCALE:GREGORIAN
METHOD:PUBLISH
X-ORIGINAL-URL:https://vs-desselbrunn.at
X-WR-CALDESC:Veranstaltungen für VS-Desselbrunn
REFRESH-INTERVAL;VALUE=DURATION:PT1H
X-Robots-Tag:noindex
X-PUBLISHED-TTL:PT1H
BEGIN:VTIMEZONE
TZID:UTC
BEGIN:STANDARD
TZOFFSETFROM:+0000
TZOFFSETTO:+0000
TZNAME:UTC
DTSTART:20230101T000000
END:STANDARD
END:VTIMEZONE
BEGIN:VEVENT
DTSTART;VALUE=DATE:20240501
DTEND;VALUE=DATE:20240502
DTSTAMP:20260423T015104
CREATED:20240425T131817Z
LAST-MODIFIED:20240425T131817Z
UID:202-1714521600-1714607999@vs-desselbrunn.at
SUMMARY:Schulfrei
DESCRIPTION:
URL:https://vs-desselbrunn.at/event/schulfrei/
END:VEVENT
BEGIN:VEVENT
DTSTART;VALUE=DATE:20240502
DTEND;VALUE=DATE:20240503
DTSTAMP:20260423T015104
CREATED:20240425T131851Z
LAST-MODIFIED:20240425T131851Z
UID:204-1714608000-1714694399@vs-desselbrunn.at
SUMMARY:Lesung: Adler Aron
DESCRIPTION:
URL:https://vs-desselbrunn.at/event/lesung-adler-aron/
END:VEVENT
BEGIN:VEVENT
DTSTART;VALUE=DATE:20240506
DTEND;VALUE=DATE:20240507
DTSTAMP:20260423T015104
CREATED:20240425T131931Z
LAST-MODIFIED:20240425T131931Z
UID:206-1714953600-1715039999@vs-desselbrunn.at
SUMMARY:Hallenbad 3b & 4. Klasse
DESCRIPTION:
URL:https://vs-desselbrunn.at/event/hallenbad-3b-4-klasse/
END:VEVENT
BEGIN:VEVENT
DTSTART;VALUE=DATE:20240507
DTEND;VALUE=DATE:20240508
DTSTAMP:20260423T015104
CREATED:20240425T131953Z
LAST-MODIFIED:20240425T131953Z
UID:209-1715040000-1715126399@vs-desselbrunn.at
SUMMARY:Bauernjause
DESCRIPTION:
URL:https://vs-desselbrunn.at/event/bauernjause/
END:VEVENT
BEGIN:VEVENT
DTSTART;VALUE=DATE:20240509
DTEND;VALUE=DATE:20240510
DTSTAMP:20260423T015104
CREATED:20240425T132026Z
LAST-MODIFIED:20240425T132026Z
UID:211-1715212800-1715299199@vs-desselbrunn.at
SUMMARY:Erstkommunion
DESCRIPTION:
URL:https://vs-desselbrunn.at/event/erstkommunion/
END:VEVENT
BEGIN:VEVENT
DTSTART;VALUE=DATE:20240509
DTEND;VALUE=DATE:20240511
DTSTAMP:20260423T015104
CREATED:20240425T132058Z
LAST-MODIFIED:20240425T132058Z
UID:213-1715212800-1715385599@vs-desselbrunn.at
SUMMARY:Schulfrei
DESCRIPTION:
URL:https://vs-desselbrunn.at/event/schulfrei-2/
END:VEVENT
BEGIN:VEVENT
DTSTART;VALUE=DATE:20240521
DTEND;VALUE=DATE:20240522
DTSTAMP:20260423T015104
CREATED:20240425T132124Z
LAST-MODIFIED:20240425T132124Z
UID:215-1716249600-1716335999@vs-desselbrunn.at
SUMMARY:Bücherei
DESCRIPTION:
URL:https://vs-desselbrunn.at/event/buecherei-2/
END:VEVENT
BEGIN:VEVENT
DTSTART;VALUE=DATE:20240530
DTEND;VALUE=DATE:20240601
DTSTAMP:20260423T015104
CREATED:20240425T132212Z
LAST-MODIFIED:20240425T132212Z
UID:217-1717027200-1717199999@vs-desselbrunn.at
SUMMARY:Schulfrei
DESCRIPTION:
URL:https://vs-desselbrunn.at/event/schulfrei-3/
END:VEVENT
END:VCALENDAR